BEGIN:VCALENDAR
VERSION:2.0
PRODID:icalendar-ruby
CALSCALE:GREGORIAN
METHOD:PUBLISH
BEGIN:VTIMEZONE
TZID:Europe/London
BEGIN:DAYLIGHT
DTSTART:20170326T020000
TZOFFSETFROM:+0000
TZOFFSETTO:+0100
RRULE:FREQ=YEARLY;BYDAY=-1SU;BYMONTH=3
TZNAME:BST
END:DAYLIGHT
BEGIN:STANDARD
DTSTART:20171029T010000
TZOFFSETFROM:+0100
TZOFFSETTO:+0000
RRULE:FREQ=YEARLY;BYDAY=-1SU;BYMONTH=10
TZNAME:GMT
END:STANDARD
END:VTIMEZONE
BEGIN:VEVENT
DTSTAMP:20260421T184756Z
UID:social-event-society-drinks-pub-quiz-in-re-union
DTSTART;TZID=Europe/London:20171019T183000
DTEND;TZID=Europe/London:20171019T220000
LOCATION:Re:Union Bar - Students Association Building - Glasgow Caledonian 
 University
SUMMARY:Social Event - Society Drinks & Pub Quiz in Re:Union
END:VEVENT
END:VCALENDAR
