BEGIN:VCALENDAR
VERSION:2.0
PRODID:icalendar-ruby
CALSCALE:GREGORIAN
METHOD:PUBLISH
BEGIN:VTIMEZONE
TZID:Europe/London
BEGIN:DAYLIGHT
DTSTART:20170326T020000
TZOFFSETFROM:+0000
TZOFFSETTO:+0100
RRULE:FREQ=YEARLY;BYDAY=-1SU;BYMONTH=3
TZNAME:BST
END:DAYLIGHT
BEGIN:STANDARD
DTSTART:20161030T010000
TZOFFSETFROM:+0100
TZOFFSETTO:+0000
RRULE:FREQ=YEARLY;BYDAY=-1SU;BYMONTH=10
TZNAME:GMT
END:STANDARD
END:VTIMEZONE
BEGIN:VEVENT
DTSTAMP:20260422T103756Z
UID:the-great-radsby-rad-ball-2017-cancelled
DTSTART;TZID=Europe/London:20170203T190000
DTEND;TZID=Europe/London:20170203T235900
LOCATION:Hilton Grosvenor\, 1-9 Grosvenor Terrace\, Glasgow\, G12 0TA
SUMMARY:The Great Radsby! Rad Ball 2017 - Cancelled
END:VEVENT
END:VCALENDAR
