BEGIN:VCALENDAR
VERSION:2.0
PRODID:icalendar-ruby
CALSCALE:GREGORIAN
METHOD:PUBLISH
BEGIN:VTIMEZONE
TZID:Europe/London
BEGIN:DAYLIGHT
DTSTART:20170326T020000
TZOFFSETFROM:+0000
TZOFFSETTO:+0100
RRULE:FREQ=YEARLY;BYDAY=-1SU;BYMONTH=3
TZNAME:BST
END:DAYLIGHT
BEGIN:STANDARD
DTSTART:20171029T010000
TZOFFSETFROM:+0100
TZOFFSETTO:+0000
RRULE:FREQ=YEARLY;BYDAY=-1SU;BYMONTH=10
TZNAME:GMT
END:STANDARD
END:VTIMEZONE
BEGIN:VEVENT
DTSTAMP:20260421T203036Z
UID:saasmass-freshers-2017-double-saas-double-party
DTSTART;TZID=Europe/London:20170920T210000
DTEND;TZID=Europe/London:20170921T000000
LOCATION:Re:Union Bar (Students' Association Building)
SUMMARY:SAASmass Freshers 2017 - Double SAAS\; Double Party
END:VEVENT
END:VCALENDAR
