BEGIN:VCALENDAR
VERSION:2.0
PRODID:icalendar-ruby
CALSCALE:GREGORIAN
METHOD:PUBLISH
BEGIN:VTIMEZONE
TZID:Europe/London
BEGIN:DAYLIGHT
DTSTART:20160327T020000
TZOFFSETFROM:+0000
TZOFFSETTO:+0100
RRULE:FREQ=YEARLY;BYDAY=-1SU;BYMONTH=3
TZNAME:BST
END:DAYLIGHT
BEGIN:STANDARD
DTSTART:20151025T010000
TZOFFSETFROM:+0100
TZOFFSETTO:+0000
RRULE:FREQ=YEARLY;BYDAY=-1SU;BYMONTH=10
TZNAME:GMT
END:STANDARD
END:VTIMEZONE
BEGIN:VEVENT
DTSTAMP:20260425T204956Z
UID:witchcraft-in-scotland-by-professor-hugh-mclachlan-guest-lecture
DTSTART;TZID=Europe/London:20151026T173000
DTEND;TZID=Europe/London:20151026T190000
LOCATION:M401
SUMMARY: Witchcraft in Scotland by Professor Hugh McLachlan - Guest Lecture
END:VEVENT
END:VCALENDAR
