BEGIN:VCALENDAR
VERSION:2.0
PRODID:icalendar-ruby
CALSCALE:GREGORIAN
METHOD:PUBLISH
BEGIN:VTIMEZONE
TZID:Europe/London
BEGIN:DAYLIGHT
DTSTART:20180325T020000
TZOFFSETFROM:+0000
TZOFFSETTO:+0100
RRULE:FREQ=YEARLY;BYDAY=-1SU;BYMONTH=3
TZNAME:BST
END:DAYLIGHT
BEGIN:STANDARD
DTSTART:20171029T010000
TZOFFSETFROM:+0100
TZOFFSETTO:+0000
RRULE:FREQ=YEARLY;BYDAY=-1SU;BYMONTH=10
TZNAME:GMT
END:STANDARD
END:VTIMEZONE
BEGIN:VEVENT
DTSTAMP:20260421T172024Z
UID:gcu-psychology-society-and-athletics-club-halloween-party
DTSTART;TZID=Europe/London:20171101T190000
DTEND;TZID=Europe/London:20171102T030000
LOCATION:Re:Union Bar\, GCU Students Association
SUMMARY:GCU Psychology Society and Athletics Club Halloween Party!
END:VEVENT
END:VCALENDAR
