BEGIN:VCALENDAR
VERSION:2.0
PRODID:icalendar-ruby
CALSCALE:GREGORIAN
METHOD:PUBLISH
BEGIN:VTIMEZONE
TZID:Europe/London
BEGIN:DAYLIGHT
DTSTART:20240331T020000
TZOFFSETFROM:+0000
TZOFFSETTO:+0100
RRULE:FREQ=YEARLY;BYDAY=-1SU;BYMONTH=3
TZNAME:BST
END:DAYLIGHT
BEGIN:STANDARD
DTSTART:20241027T010000
TZOFFSETFROM:+0100
TZOFFSETTO:+0000
RRULE:FREQ=YEARLY;BYDAY=-1SU;BYMONTH=10
TZNAME:GMT
END:STANDARD
END:VTIMEZONE
BEGIN:VEVENT
DTSTAMP:20260421T085956Z
UID:football-game-st-particks-thistle-vs-airdrieonians
DTSTART;TZID=Europe/London:20241019T000000
DTEND;TZID=Europe/London:20241019T160000
LOCATION:WYRE STADIUM AT FIRHILL\, GLASGOW
SUMMARY:Football Game - St Particks Thistle vs Airdrieonians
END:VEVENT
END:VCALENDAR
