BEGIN:VCALENDAR
VERSION:2.0
PRODID:icalendar-ruby
CALSCALE:GREGORIAN
METHOD:PUBLISH
BEGIN:VTIMEZONE
TZID:Europe/London
BEGIN:DAYLIGHT
DTSTART:20160327T020000
TZOFFSETFROM:+0000
TZOFFSETTO:+0100
RRULE:FREQ=YEARLY;BYDAY=-1SU;BYMONTH=3
TZNAME:BST
END:DAYLIGHT
BEGIN:STANDARD
DTSTART:20161030T010000
TZOFFSETFROM:+0100
TZOFFSETTO:+0000
RRULE:FREQ=YEARLY;BYDAY=-1SU;BYMONTH=10
TZNAME:GMT
END:STANDARD
END:VTIMEZONE
BEGIN:VEVENT
DTSTAMP:20260423T074047Z
UID:gcu-choir-10th-anniversary-concert
DTSTART;TZID=Europe/London:20160415T200000
DTEND;TZID=Europe/London:20160415T210000
LOCATION:St Mary's Cathedral\, 300 Great Western Rd\, Glasgow G4 9JB
SUMMARY:GCU Choir 10th Anniversary Concert
END:VEVENT
END:VCALENDAR
