BEGIN:VCALENDAR
VERSION:2.0
PRODID:icalendar-ruby
CALSCALE:GREGORIAN
METHOD:PUBLISH
BEGIN:VTIMEZONE
TZID:Europe/London
BEGIN:DAYLIGHT
DTSTART:20170326T020000
TZOFFSETFROM:+0000
TZOFFSETTO:+0100
RRULE:FREQ=YEARLY;BYDAY=-1SU;BYMONTH=3
TZNAME:BST
END:DAYLIGHT
BEGIN:STANDARD
DTSTART:20161030T010000
TZOFFSETFROM:+0100
TZOFFSETTO:+0000
RRULE:FREQ=YEARLY;BYDAY=-1SU;BYMONTH=10
TZNAME:GMT
END:STANDARD
END:VTIMEZONE
BEGIN:VEVENT
DTSTAMP:20260422T131945Z
UID:gcu-equestrian-friends-subcrawl
DTSTART;TZID=Europe/London:20170125T180000
DTEND;TZID=Europe/London:20170126T030000
LOCATION:Dram Glasgow\, 232-246 Woodlands Road\, Glasgow\, G3 6ND
SUMMARY:GCU Equestrian (& Friends!) Subcrawl 
END:VEVENT
END:VCALENDAR
