BEGIN:VCALENDAR
VERSION:2.0
PRODID:icalendar-ruby
CALSCALE:GREGORIAN
METHOD:PUBLISH
BEGIN:VTIMEZONE
TZID:Europe/London
BEGIN:DAYLIGHT
DTSTART:20160327T020000
TZOFFSETFROM:+0000
TZOFFSETTO:+0100
RRULE:FREQ=YEARLY;BYDAY=-1SU;BYMONTH=3
TZNAME:BST
END:DAYLIGHT
BEGIN:STANDARD
DTSTART:20161030T010000
TZOFFSETFROM:+0100
TZOFFSETTO:+0000
RRULE:FREQ=YEARLY;BYDAY=-1SU;BYMONTH=10
TZNAME:GMT
END:STANDARD
END:VTIMEZONE
BEGIN:VEVENT
DTSTAMP:20260422T190258Z
UID:cumsa-pokemon-go-and-eat
DTSTART;TZID=Europe/London:20160914T140000
DTEND;TZID=Europe/London:20160914T180000
LOCATION:Outside Govan Mbeki for Pokemon @2pm then Eat at the SA for 7pm!
SUMMARY:CUMSA: Pokemon GO! and EAT!
END:VEVENT
END:VCALENDAR
