BEGIN:VCALENDAR
VERSION:2.0
PRODID:icalendar-ruby
CALSCALE:GREGORIAN
METHOD:PUBLISH
BEGIN:VTIMEZONE
TZID:Europe/London
BEGIN:DAYLIGHT
DTSTART:20170326T020000
TZOFFSETFROM:+0000
TZOFFSETTO:+0100
RRULE:FREQ=YEARLY;BYDAY=-1SU;BYMONTH=3
TZNAME:BST
END:DAYLIGHT
BEGIN:STANDARD
DTSTART:20161030T010000
TZOFFSETFROM:+0100
TZOFFSETTO:+0000
RRULE:FREQ=YEARLY;BYDAY=-1SU;BYMONTH=10
TZNAME:GMT
END:STANDARD
END:VTIMEZONE
BEGIN:VEVENT
DTSTAMP:20260422T153324Z
UID:gsbs-international-business-and-society-network-upcoming-events
DTSTART;TZID=Europe/London:20161116T123000
DTEND;TZID=Europe/London:20161116T133000
LOCATION:NH209 (Second floor of Student Association building)
SUMMARY:GSBS International Business and Society Network Upcoming Events
END:VEVENT
END:VCALENDAR
