BEGIN:VCALENDAR
VERSION:2.0
PRODID:icalendar-ruby
CALSCALE:GREGORIAN
METHOD:PUBLISH
BEGIN:VTIMEZONE
TZID:Europe/London
BEGIN:DAYLIGHT
DTSTART:20170326T020000
TZOFFSETFROM:+0000
TZOFFSETTO:+0100
RRULE:FREQ=YEARLY;BYDAY=-1SU;BYMONTH=3
TZNAME:BST
END:DAYLIGHT
BEGIN:STANDARD
DTSTART:20161030T010000
TZOFFSETFROM:+0100
TZOFFSETTO:+0000
RRULE:FREQ=YEARLY;BYDAY=-1SU;BYMONTH=10
TZNAME:GMT
END:STANDARD
END:VTIMEZONE
BEGIN:VEVENT
DTSTAMP:20260422T220919Z
UID:vintage-fair-mon-31st-october-2016
DTSTART;TZID=Europe/London:20161031T110000
DTEND;TZID=Europe/London:20161031T170000
LOCATION:The Campus Life Lounge Level 1\, George Moore Building\, 70 Cowcad
 dens Road\, Glasgow\, G4 0BA
SUMMARY:Vintage Fair | Mon 31st  October 2016
END:VEVENT
END:VCALENDAR
