BEGIN:VCALENDAR
VERSION:2.0
PRODID:icalendar-ruby
CALSCALE:GREGORIAN
METHOD:PUBLISH
BEGIN:VTIMEZONE
TZID:Europe/London
BEGIN:DAYLIGHT
DTSTART:20170326T020000
TZOFFSETFROM:+0000
TZOFFSETTO:+0100
RRULE:FREQ=YEARLY;BYDAY=-1SU;BYMONTH=3
TZNAME:BST
END:DAYLIGHT
BEGIN:STANDARD
DTSTART:20171029T010000
TZOFFSETFROM:+0100
TZOFFSETTO:+0000
RRULE:FREQ=YEARLY;BYDAY=-1SU;BYMONTH=10
TZNAME:GMT
END:STANDARD
END:VTIMEZONE
BEGIN:VEVENT
DTSTAMP:20260422T040003Z
UID:party-monster-thursdays-kokomo-e982
DTSTART;TZID=Europe/London:20170518T223000
DTEND;TZID=Europe/London:20170519T100000
LOCATION:Kokomo | 51 W Regent St\, Glasgow G2 2AE
SUMMARY:Party Monster Thursdays | Kokomo
END:VEVENT
END:VCALENDAR
