BEGIN:VCALENDAR
VERSION:2.0
PRODID:icalendar-ruby
CALSCALE:GREGORIAN
METHOD:PUBLISH
BEGIN:VTIMEZONE
TZID:Europe/London
BEGIN:DAYLIGHT
DTSTART:20180325T020000
TZOFFSETFROM:+0000
TZOFFSETTO:+0100
RRULE:FREQ=YEARLY;BYDAY=-1SU;BYMONTH=3
TZNAME:BST
END:DAYLIGHT
BEGIN:STANDARD
DTSTART:20171029T010000
TZOFFSETFROM:+0100
TZOFFSETTO:+0000
RRULE:FREQ=YEARLY;BYDAY=-1SU;BYMONTH=10
TZNAME:GMT
END:STANDARD
END:VTIMEZONE
BEGIN:VEVENT
DTSTAMP:20260421T080138Z
UID:m-pt-easter-egg-appeal
DTSTART;TZID=Europe/London:20180319T090000
DTEND;TZID=Europe/London:20180323T170000
LOCATION:Donation drop-off locations: NH204 (Level 2 of the Students' Assoc
 iation building) OR NH212 (Yetunde Ogedengbe - M&PT Policy Lead)
SUMMARY:M&PT Easter Egg Appeal
END:VEVENT
END:VCALENDAR
