BEGIN:VCALENDAR
VERSION:2.0
PRODID:icalendar-ruby
CALSCALE:GREGORIAN
METHOD:PUBLISH
BEGIN:VTIMEZONE
TZID:Europe/London
BEGIN:DAYLIGHT
DTSTART:20240331T020000
TZOFFSETFROM:+0000
TZOFFSETTO:+0100
RRULE:FREQ=YEARLY;BYDAY=-1SU;BYMONTH=3
TZNAME:BST
END:DAYLIGHT
BEGIN:STANDARD
DTSTART:20241027T010000
TZOFFSETFROM:+0100
TZOFFSETTO:+0000
RRULE:FREQ=YEARLY;BYDAY=-1SU;BYMONTH=10
TZNAME:GMT
END:STANDARD
END:VTIMEZONE
BEGIN:VEVENT
DTSTAMP:20260421T103741Z
UID:gcu-london-freshers-fortnight-scotland-house-alumni-mixer
DTSTART;TZID=Europe/London:20240926T180000
DTEND;TZID=Europe/London:20240926T210000
LOCATION:Scotland House\,  58 Victoria Embankment\, Temple\, London EC4Y 0D
 S
SUMMARY:GCU London Freshers Fortnight: Scotland House Alumni Mixer 
END:VEVENT
END:VCALENDAR
