BEGIN:VCALENDAR
VERSION:2.0
PRODID:icalendar-ruby
CALSCALE:GREGORIAN
METHOD:PUBLISH
BEGIN:VTIMEZONE
TZID:Europe/London
BEGIN:DAYLIGHT
DTSTART:20240331T020000
TZOFFSETFROM:+0000
TZOFFSETTO:+0100
RRULE:FREQ=YEARLY;BYDAY=-1SU;BYMONTH=3
TZNAME:BST
END:DAYLIGHT
BEGIN:STANDARD
DTSTART:20241027T010000
TZOFFSETFROM:+0100
TZOFFSETTO:+0000
RRULE:FREQ=YEARLY;BYDAY=-1SU;BYMONTH=10
TZNAME:GMT
END:STANDARD
END:VTIMEZONE
BEGIN:VEVENT
DTSTAMP:20260421T140154Z
UID:gcu-london-freshers-fortnight-london-eye-trip-group-2
DTSTART;TZID=Europe/London:20240925T120000
DTEND;TZID=Europe/London:20240925T150000
LOCATION:London Eye\, Riverside Building\, County Hall\, London SE1 7PB
SUMMARY:GCU London Freshers Fortnight: London Eye Trip (Group 2) 
END:VEVENT
END:VCALENDAR
