BEGIN:VCALENDAR
VERSION:2.0
PRODID:icalendar-ruby
CALSCALE:GREGORIAN
METHOD:PUBLISH
BEGIN:VTIMEZONE
TZID:Europe/London
BEGIN:DAYLIGHT
DTSTART:20240331T020000
TZOFFSETFROM:+0000
TZOFFSETTO:+0100
RRULE:FREQ=YEARLY;BYDAY=-1SU;BYMONTH=3
TZNAME:BST
END:DAYLIGHT
BEGIN:STANDARD
DTSTART:20241027T010000
TZOFFSETFROM:+0100
TZOFFSETTO:+0000
RRULE:FREQ=YEARLY;BYDAY=-1SU;BYMONTH=10
TZNAME:GMT
END:STANDARD
END:VTIMEZONE
BEGIN:VEVENT
DTSTAMP:20260421T103542Z
UID:gcu-london-freshers-fortnight-boxpark-dinner
DTSTART;TZID=Europe/London:20240916T170000
DTEND;TZID=Europe/London:20240916T190000
LOCATION:BoxPark Shoreditch\, 2-10 Bethnal Grn Rd\, London E1 6GY
SUMMARY:GCU London Freshers Fortnight: BoxPark Dinner 
END:VEVENT
END:VCALENDAR
