BEGIN:VCALENDAR
VERSION:2.0
PRODID:icalendar-ruby
CALSCALE:GREGORIAN
METHOD:PUBLISH
BEGIN:VTIMEZONE
TZID:Europe/London
BEGIN:DAYLIGHT
DTSTART:20160327T020000
TZOFFSETFROM:+0000
TZOFFSETTO:+0100
RRULE:FREQ=YEARLY;BYDAY=-1SU;BYMONTH=3
TZNAME:BST
END:DAYLIGHT
BEGIN:STANDARD
DTSTART:20161030T010000
TZOFFSETFROM:+0100
TZOFFSETTO:+0000
RRULE:FREQ=YEARLY;BYDAY=-1SU;BYMONTH=10
TZNAME:GMT
END:STANDARD
END:VTIMEZONE
BEGIN:VEVENT
DTSTAMP:20260422T234847Z
UID:club-wristband-thur-15th-sept-squirt-uv-party-light
DTSTART;TZID=Europe/London:20160915T230000
DTEND;TZID=Europe/London:20160916T030000
LOCATION:LIGHT\, 7 Royal Exchange Square\, Glasgow G1 3AJ
SUMMARY:CLUB WRISTBAND | THUR 15TH SEPT | SQUIRT UV PARTY @ LIGHT
END:VEVENT
END:VCALENDAR
