BEGIN:VCALENDAR
VERSION:2.0
PRODID:icalendar-ruby
CALSCALE:GREGORIAN
METHOD:PUBLISH
BEGIN:VTIMEZONE
TZID:Europe/London
BEGIN:DAYLIGHT
DTSTART:20160327T020000
TZOFFSETFROM:+0000
TZOFFSETTO:+0100
RRULE:FREQ=YEARLY;BYDAY=-1SU;BYMONTH=3
TZNAME:BST
END:DAYLIGHT
BEGIN:STANDARD
DTSTART:20161030T010000
TZOFFSETFROM:+0100
TZOFFSETTO:+0000
RRULE:FREQ=YEARLY;BYDAY=-1SU;BYMONTH=10
TZNAME:GMT
END:STANDARD
END:VTIMEZONE
BEGIN:VEVENT
DTSTAMP:20260422T221016Z
UID:active-wristband-wed-14th-sept-sledging-b2b-crazy-golf
DTSTART;TZID=Europe/London:20160914T140000
DTEND;TZID=Europe/London:20160914T183000
LOCATION:Soar at Intu Braehead\, King's Inch Road\, Renfrew\, Braehead PA4 
 8XQ
SUMMARY:ACTIVE WRISTBAND | WED 14TH SEPT | SLEDGING B2B CRAZY GOLF
END:VEVENT
END:VCALENDAR
