BEGIN:VCALENDAR
VERSION:2.0
PRODID:icalendar-ruby
CALSCALE:GREGORIAN
METHOD:PUBLISH
BEGIN:VTIMEZONE
TZID:Europe/London
BEGIN:DAYLIGHT
DTSTART:20160327T020000
TZOFFSETFROM:+0000
TZOFFSETTO:+0100
RRULE:FREQ=YEARLY;BYDAY=-1SU;BYMONTH=3
TZNAME:BST
END:DAYLIGHT
BEGIN:STANDARD
DTSTART:20161030T010000
TZOFFSETFROM:+0100
TZOFFSETTO:+0000
RRULE:FREQ=YEARLY;BYDAY=-1SU;BYMONTH=10
TZNAME:GMT
END:STANDARD
END:VTIMEZONE
BEGIN:VEVENT
DTSTAMP:20260422T221140Z
UID:active-wristband-tue-13th-sept-air-space
DTSTART;TZID=Europe/London:20160913T200000
DTEND;TZID=Europe/London:20160913T210000
LOCATION:Air Space East Kilbride\, Playsport\, Stewartfield Way\, East Kilb
 ride G74 4GT
SUMMARY:ACTIVE WRISTBAND | TUE 13TH SEPT | AIR SPACE 
END:VEVENT
END:VCALENDAR
