BEGIN:VCALENDAR
VERSION:2.0
PRODID:icalendar-ruby
CALSCALE:GREGORIAN
METHOD:PUBLISH
BEGIN:VTIMEZONE
TZID:Europe/London
BEGIN:DAYLIGHT
DTSTART:20160327T020000
TZOFFSETFROM:+0000
TZOFFSETTO:+0100
RRULE:FREQ=YEARLY;BYDAY=-1SU;BYMONTH=3
TZNAME:BST
END:DAYLIGHT
BEGIN:STANDARD
DTSTART:20161030T010000
TZOFFSETFROM:+0100
TZOFFSETTO:+0000
RRULE:FREQ=YEARLY;BYDAY=-1SU;BYMONTH=10
TZNAME:GMT
END:STANDARD
END:VTIMEZONE
BEGIN:VEVENT
DTSTAMP:20260422T234801Z
UID:active-wristband-mon-12th-sept-hollywood-bowl
DTSTART;TZID=Europe/London:20160912T160000
DTEND;TZID=Europe/London:20160912T200000
LOCATION:Hollywood Bowl\, Springfield Quay\, Glasgow G5 8NP 
SUMMARY:ACTIVE WRISTBAND | MON 12TH SEPT | HOLLYWOOD BOWL
END:VEVENT
END:VCALENDAR
